BEGIN:VCALENDAR
VERSION:2.0
PRODID:icalendar-ruby
CALSCALE:GREGORIAN
METHOD:PUBLISH
BEGIN:VEVENT
DTSTAMP:20260421T234618Z
UID:6-436518@saintmarysavl.org
DTSTART:20260607T120000Z
DTEND:20260607T133000Z
CLASS:PUBLIC
CREATED:20260421T185922
DESCRIPTION:
LAST-MODIFIED:20260421T185922
LOCATION:St. Mary's Episcopal Church
SUMMARY:Holy Communion Rite II
URL;VALUE=URI:https://www.saintmarysavl.org/events/holy-communion-rite-ii/2
 026-06-07
END:VEVENT
END:VCALENDAR
