BEGIN:VCALENDAR
VERSION:2.0
PRODID:icalendar-ruby
CALSCALE:GREGORIAN
METHOD:PUBLISH
BEGIN:VEVENT
DTSTAMP:20260422T050603Z
UID:6-436769@saintmarysavl.org
DTSTART:20260628T120000Z
DTEND:20260628T133000Z
CLASS:PUBLIC
CREATED:20260421T213740
DESCRIPTION:
LAST-MODIFIED:20260421T213740
LOCATION:St. Mary's Episcopal Church
SUMMARY:Holy Communion Rite II
URL;VALUE=URI:https://www.saintmarysavl.org/events/holy-communion-rite-ii/2
 026-06-28
END:VEVENT
END:VCALENDAR
