BEGIN:VCALENDAR
VERSION:2.0
PRODID:icalendar-ruby
CALSCALE:GREGORIAN
METHOD:PUBLISH
BEGIN:VEVENT
DTSTAMP:20260422T125642Z
UID:6-437022@saintmarysavl.org
DTSTART:20260726T120000Z
DTEND:20260726T133000Z
CLASS:PUBLIC
CREATED:20260422T084615
DESCRIPTION:
LAST-MODIFIED:20260422T084615
LOCATION:St. Mary's Episcopal Church
SUMMARY:Holy Communion Rite II
URL;VALUE=URI:https://www.saintmarysavl.org/events/holy-communion-rite-ii/2
 026-07-26
END:VEVENT
END:VCALENDAR
