BEGIN:VCALENDAR
VERSION:2.0
PRODID:icalendar-ruby
CALSCALE:GREGORIAN
METHOD:PUBLISH
BEGIN:VEVENT
DTSTAMP:20260422T221801Z
UID:6-438334@saintmarysavl.org
DTSTART:20260830T120000Z
DTEND:20260830T133000Z
CLASS:PUBLIC
CREATED:20260422T173131
DESCRIPTION:
LAST-MODIFIED:20260422T173131
LOCATION:St. Mary's Episcopal Church
SUMMARY:Holy Communion Rite II
URL;VALUE=URI:https://www.saintmarysavl.org/events/holy-communion-rite-ii/2
 026-08-30
END:VEVENT
END:VCALENDAR
