BEGIN:VCALENDAR
VERSION:2.0
PRODID:icalendar-ruby
CALSCALE:GREGORIAN
METHOD:PUBLISH
BEGIN:VEVENT
DTSTAMP:20260423T014926Z
UID:6-438662@saintmarysavl.org
DTSTART:20260913T120000Z
DTEND:20260913T133000Z
CLASS:PUBLIC
CREATED:20260422T202255
DESCRIPTION:
LAST-MODIFIED:20260422T202255
LOCATION:St. Mary's Episcopal Church
SUMMARY:Holy Communion Rite II
URL;VALUE=URI:https://www.saintmarysavl.org/events/holy-communion-rite-ii/2
 026-09-13
END:VEVENT
END:VCALENDAR
