BEGIN:VCALENDAR
VERSION:2.0
PRODID:icalendar-ruby
CALSCALE:GREGORIAN
METHOD:PUBLISH
BEGIN:VEVENT
DTSTAMP:20260423T093705Z
UID:6-438992@saintmarysavl.org
DTSTART:20261011T120000Z
DTEND:20261011T133000Z
CLASS:PUBLIC
CREATED:20260422T231724
DESCRIPTION:
LAST-MODIFIED:20260422T231724
LOCATION:St. Mary's Episcopal Church
SUMMARY:Holy Communion Rite II
URL;VALUE=URI:https://www.saintmarysavl.org/events/holy-communion-rite-ii/2
 026-10-11
END:VEVENT
END:VCALENDAR
