BEGIN:VCALENDAR
VERSION:2.0
PRODID:icalendar-ruby
CALSCALE:GREGORIAN
METHOD:PUBLISH
BEGIN:VEVENT
DTSTAMP:20260425T105641Z
UID:6-445940@saintmarysavl.org
DTSTART:20260510T120000Z
DTEND:20260510T133000Z
CLASS:PUBLIC
CREATED:20260424T225101
DESCRIPTION:
LAST-MODIFIED:20260424T225101
LOCATION:St. Mary's Episcopal Church
SUMMARY:Holy Eucharist\, Rite II
URL;VALUE=URI:https://www.saintmarysavl.org/events/holy-eucharist-rite-ii--
 6/2026-05-10
END:VEVENT
END:VCALENDAR
