BEGIN:VCALENDAR
VERSION:2.0
PRODID:icalendar-ruby
CALSCALE:GREGORIAN
METHOD:PUBLISH
BEGIN:VEVENT
DTSTAMP:20260425T142357Z
UID:6-446556@saintmarysavl.org
DTSTART:20260524T120000Z
DTEND:20260524T133000Z
CLASS:PUBLIC
CREATED:20260425T083426
DESCRIPTION:
LAST-MODIFIED:20260425T083426
LOCATION:St. Mary's Episcopal Church
SUMMARY:Holy Eucharist\, Rite II
URL;VALUE=URI:https://www.saintmarysavl.org/events/holy-eucharist-rite-ii--
 6/2026-05-24
END:VEVENT
END:VCALENDAR
