BEGIN:VCALENDAR
VERSION:2.0
PRODID:icalendar-ruby
CALSCALE:GREGORIAN
METHOD:PUBLISH
BEGIN:VEVENT
DTSTAMP:20260425T161014Z
UID:6-447171@saintmarysavl.org
DTSTART:20260531T120000Z
DTEND:20260531T133000Z
CLASS:PUBLIC
CREATED:20260425T111520
DESCRIPTION:
LAST-MODIFIED:20260425T111520
LOCATION:St. Mary's Episcopal Church
SUMMARY:Holy Eucharist\, Rite II
URL;VALUE=URI:https://www.saintmarysavl.org/events/holy-eucharist-rite-ii--
 6/2026-05-31
END:VEVENT
END:VCALENDAR
