BEGIN:VCALENDAR
VERSION:2.0
PRODID:icalendar-ruby
CALSCALE:GREGORIAN
METHOD:PUBLISH
BEGIN:VEVENT
DTSTAMP:20260426T004414Z
UID:6-449018@saintmarysavl.org
DTSTART:20260705T120000Z
DTEND:20260705T133000Z
CLASS:PUBLIC
CREATED:20260425T191954
DESCRIPTION:
LAST-MODIFIED:20260425T191954
LOCATION:St. Mary's Episcopal Church
SUMMARY:Holy Eucharist\, Rite II
URL;VALUE=URI:https://www.saintmarysavl.org/events/holy-eucharist-rite-ii--
 6/2026-07-05
END:VEVENT
END:VCALENDAR
