BEGIN:VCALENDAR
VERSION:2.0
PRODID:icalendar-ruby
CALSCALE:GREGORIAN
METHOD:PUBLISH
BEGIN:VEVENT
DTSTAMP:20260426T023740Z
UID:6-449633@saintmarysavl.org
DTSTART:20260712T120000Z
DTEND:20260712T133000Z
CLASS:PUBLIC
CREATED:20260425T220102
DESCRIPTION:
LAST-MODIFIED:20260425T220102
LOCATION:St. Mary's Episcopal Church
SUMMARY:Holy Eucharist\, Rite II
URL;VALUE=URI:https://www.saintmarysavl.org/events/holy-eucharist-rite-ii--
 6/2026-07-12
END:VEVENT
END:VCALENDAR
