BEGIN:VCALENDAR
VERSION:2.0
PRODID:icalendar-ruby
CALSCALE:GREGORIAN
METHOD:PUBLISH
BEGIN:VEVENT
DTSTAMP:20260426T043233Z
UID:6-449634@saintmarysavl.org
DTSTART:20260719T120000Z
DTEND:20260719T133000Z
CLASS:PUBLIC
CREATED:20260425T220102
DESCRIPTION:
LAST-MODIFIED:20260425T220102
LOCATION:St. Mary's Episcopal Church
SUMMARY:Holy Eucharist\, Rite II
URL;VALUE=URI:https://www.saintmarysavl.org/events/holy-eucharist-rite-ii--
 6/2026-07-19
END:VEVENT
END:VCALENDAR
