BEGIN:VCALENDAR
VERSION:2.0
PRODID:icalendar-ruby
CALSCALE:GREGORIAN
METHOD:PUBLISH
BEGIN:VEVENT
DTSTAMP:20260425T105310Z
UID:6-445965@saintmarysavl.org
DTSTART:20261101T130000Z
DTEND:20261101T143000Z
CLASS:PUBLIC
CREATED:20260424T225101
DESCRIPTION:
LAST-MODIFIED:20260424T225101
LOCATION:St. Mary's Episcopal Church
SUMMARY:Holy Eucharist\, Rite II
URL;VALUE=URI:https://www.saintmarysavl.org/events/holy-eucharist-rite-ii--
 6/2026-11-01
END:VEVENT
END:VCALENDAR
