BEGIN:VCALENDAR
VERSION:2.0
PRODID:icalendar-ruby
CALSCALE:GREGORIAN
METHOD:PUBLISH
BEGIN:VEVENT
DTSTAMP:20260425T160321Z
UID:7-447226@saintmarysavl.org
DTSTART:20260531T150000Z
DTEND:20260531T163000Z
CLASS:PUBLIC
CREATED:20260425T111520
DESCRIPTION:
LAST-MODIFIED:20260425T111520
LOCATION:St. Mary's Episcopal Church
SUMMARY:Holy Eucharist\, Rite II
URL;VALUE=URI:https://www.saintmarysavl.org/events/holy-eucharist-rite-ii/2
 026-05-31
END:VEVENT
END:VCALENDAR
