BEGIN:VCALENDAR
VERSION:2.0
PRODID:icalendar-ruby
CALSCALE:GREGORIAN
METHOD:PUBLISH
BEGIN:VEVENT
DTSTAMP:20260425T192320Z
UID:7-447842@saintmarysavl.org
DTSTART:20260614T150000Z
DTEND:20260614T163000Z
CLASS:PUBLIC
CREATED:20260425T135510
DESCRIPTION:
LAST-MODIFIED:20260425T135510
LOCATION:St. Mary's Episcopal Church
SUMMARY:Holy Eucharist\, Rite II
URL;VALUE=URI:https://www.saintmarysavl.org/events/holy-eucharist-rite-ii/2
 026-06-14
END:VEVENT
END:VCALENDAR
