BEGIN:VCALENDAR
VERSION:2.0
PRODID:icalendar-ruby
CALSCALE:GREGORIAN
METHOD:PUBLISH
BEGIN:VEVENT
DTSTAMP:20260424T143502Z
UID:7-442941@saintmarysavl.org
DTSTART:20260726T150000Z
DTEND:20260726T163000Z
CLASS:PUBLIC
CREATED:20260424T084716
DESCRIPTION:
LAST-MODIFIED:20260424T084716
LOCATION:St. Mary's Episcopal Church
SUMMARY:Holy Eucharist\, Rite II
URL;VALUE=URI:https://www.saintmarysavl.org/events/holy-eucharist-rite-ii/2
 026-07-26
END:VEVENT
END:VCALENDAR
