BEGIN:VCALENDAR
VERSION:2.0
PRODID:icalendar-ruby
CALSCALE:GREGORIAN
METHOD:PUBLISH
BEGIN:VEVENT
DTSTAMP:20260424T181132Z
UID:7-443555@saintmarysavl.org
DTSTART:20260809T150000Z
DTEND:20260809T163000Z
CLASS:PUBLIC
CREATED:20260424T113959
DESCRIPTION:
LAST-MODIFIED:20260424T113959
LOCATION:St. Mary's Episcopal Church
SUMMARY:Holy Eucharist\, Rite II
URL;VALUE=URI:https://www.saintmarysavl.org/events/holy-eucharist-rite-ii/2
 026-08-09
END:VEVENT
END:VCALENDAR
