BEGIN:VCALENDAR
VERSION:2.0
PRODID:icalendar-ruby
CALSCALE:GREGORIAN
METHOD:PUBLISH
BEGIN:VEVENT
DTSTAMP:20260424T194652Z
UID:7-444169@saintmarysavl.org
DTSTART:20260816T150000Z
DTEND:20260816T163000Z
CLASS:PUBLIC
CREATED:20260424T142532
DESCRIPTION:
LAST-MODIFIED:20260424T142532
LOCATION:St. Mary's Episcopal Church
SUMMARY:Holy Eucharist\, Rite II
URL;VALUE=URI:https://www.saintmarysavl.org/events/holy-eucharist-rite-ii/2
 026-08-16
END:VEVENT
END:VCALENDAR
