BEGIN:VCALENDAR
VERSION:2.0
PRODID:icalendar-ruby
CALSCALE:GREGORIAN
METHOD:PUBLISH
BEGIN:VEVENT
DTSTAMP:20260424T225604Z
UID:7-444784@saintmarysavl.org
DTSTART:20260830T150000Z
DTEND:20260830T163000Z
CLASS:PUBLIC
CREATED:20260424T171323
DESCRIPTION:
LAST-MODIFIED:20260424T171323
LOCATION:St. Mary's Episcopal Church
SUMMARY:Holy Eucharist\, Rite II
URL;VALUE=URI:https://www.saintmarysavl.org/events/holy-eucharist-rite-ii/2
 026-08-30
END:VEVENT
END:VCALENDAR
