BEGIN:VCALENDAR
VERSION:2.0
PRODID:icalendar-ruby
CALSCALE:GREGORIAN
METHOD:PUBLISH
BEGIN:VEVENT
DTSTAMP:20260425T003058Z
UID:7-445398@saintmarysavl.org
DTSTART:20260906T150000Z
DTEND:20260906T163000Z
CLASS:PUBLIC
CREATED:20260424T200109
DESCRIPTION:
LAST-MODIFIED:20260424T200109
LOCATION:St. Mary's Episcopal Church
SUMMARY:Holy Eucharist\, Rite II
URL;VALUE=URI:https://www.saintmarysavl.org/events/holy-eucharist-rite-ii/2
 026-09-06
END:VEVENT
END:VCALENDAR
