BEGIN:VCALENDAR
VERSION:2.0
PRODID:icalendar-ruby
CALSCALE:GREGORIAN
METHOD:PUBLISH
BEGIN:VEVENT
DTSTAMP:20260425T021916Z
UID:7-445399@saintmarysavl.org
DTSTART:20260913T150000Z
DTEND:20260913T163000Z
CLASS:PUBLIC
CREATED:20260424T200109
DESCRIPTION:
LAST-MODIFIED:20260424T200109
LOCATION:St. Mary's Episcopal Church
SUMMARY:Holy Eucharist\, Rite II
URL;VALUE=URI:https://www.saintmarysavl.org/events/holy-eucharist-rite-ii/2
 026-09-13
END:VEVENT
END:VCALENDAR
