BEGIN:VCALENDAR
VERSION:2.0
PRODID:icalendar-ruby
CALSCALE:GREGORIAN
METHOD:PUBLISH
BEGIN:VEVENT
DTSTAMP:20260425T035639Z
UID:7-446014@saintmarysavl.org
DTSTART:20260920T150000Z
DTEND:20260920T163000Z
CLASS:PUBLIC
CREATED:20260424T225101
DESCRIPTION:
LAST-MODIFIED:20260424T225101
LOCATION:St. Mary's Episcopal Church
SUMMARY:Holy Eucharist\, Rite II
URL;VALUE=URI:https://www.saintmarysavl.org/events/holy-eucharist-rite-ii/2
 026-09-20
END:VEVENT
END:VCALENDAR
