BEGIN:VCALENDAR
VERSION:2.0
PRODID:icalendar-ruby
CALSCALE:GREGORIAN
METHOD:PUBLISH
BEGIN:VEVENT
DTSTAMP:20260425T105027Z
UID:22-440445@saintmarysavl.org
DTSTART:20260531T200000Z
DTEND:20260531T220000Z
CLASS:PUBLIC
CREATED:20260423T153539
DESCRIPTION:
LAST-MODIFIED:20260423T153539
LOCATION:
SUMMARY:Jung Group Meeting
URL;VALUE=URI:https://www.saintmarysavl.org/events/jung-group-meeting/2026-
 05-31
END:VEVENT
END:VCALENDAR
