BEGIN:VCALENDAR
VERSION:2.0
PRODID:icalendar-ruby
CALSCALE:GREGORIAN
METHOD:PUBLISH
BEGIN:VEVENT
DTSTAMP:20260425T154658Z
UID:22-440448@saintmarysavl.org
DTSTART:20260830T200000Z
DTEND:20260830T220000Z
CLASS:PUBLIC
CREATED:20260423T153539
DESCRIPTION:
LAST-MODIFIED:20260423T153539
LOCATION:
SUMMARY:Jung Group Meeting
URL;VALUE=URI:https://www.saintmarysavl.org/events/jung-group-meeting/2026-
 08-30
END:VEVENT
END:VCALENDAR
