BEGIN:VCALENDAR
VERSION:2.0
PRODID:icalendar-ruby
CALSCALE:GREGORIAN
METHOD:PUBLISH
BEGIN:VEVENT
DTSTAMP:20260425T184857Z
UID:22-440450@saintmarysavl.org
DTSTART:20261025T200000Z
DTEND:20261025T220000Z
CLASS:PUBLIC
CREATED:20260423T153539
DESCRIPTION:
LAST-MODIFIED:20260423T153539
LOCATION:
SUMMARY:Jung Group Meeting
URL;VALUE=URI:https://www.saintmarysavl.org/events/jung-group-meeting/2026-
 10-25
END:VEVENT
END:VCALENDAR
