BEGIN:VCALENDAR
VERSION:2.0
PRODID:icalendar-ruby
CALSCALE:GREGORIAN
METHOD:PUBLISH
BEGIN:VEVENT
DTSTAMP:20260425T221003Z
UID:22-440452@saintmarysavl.org
DTSTART:20261227T210000Z
DTEND:20261227T230000Z
CLASS:PUBLIC
CREATED:20260423T153539
DESCRIPTION:
LAST-MODIFIED:20260423T153539
LOCATION:
SUMMARY:Jung Group Meeting
URL;VALUE=URI:https://www.saintmarysavl.org/events/jung-group-meeting/2026-
 12-27
END:VEVENT
END:VCALENDAR
