BEGIN:VCALENDAR
VERSION:2.0
PRODID:icalendar-ruby
CALSCALE:GREGORIAN
METHOD:PUBLISH
BEGIN:VEVENT
DTSTAMP:20260422T233507Z
UID:14-438462@saintmarysavl.org
DTSTART:20260422T113000Z
DTEND:20260422T120000Z
CLASS:PUBLIC
CREATED:20260422T173131
DESCRIPTION:
LAST-MODIFIED:20260422T173131
LOCATION:
SUMMARY:Morning Prayer Rite I
URL;VALUE=URI:https://www.saintmarysavl.org/events/morning-prayer-rite-i--1
 4/2026-04-22
END:VEVENT
END:VCALENDAR
