BEGIN:VCALENDAR
VERSION:2.0
PRODID:icalendar-ruby
CALSCALE:GREGORIAN
METHOD:PUBLISH
BEGIN:VEVENT
DTSTAMP:20260423T012842Z
UID:14-438789@saintmarysavl.org
DTSTART:20260429T113000Z
DTEND:20260429T120000Z
CLASS:PUBLIC
CREATED:20260422T202255
DESCRIPTION:
LAST-MODIFIED:20260422T202255
LOCATION:
SUMMARY:Morning Prayer Rite I
URL;VALUE=URI:https://www.saintmarysavl.org/events/morning-prayer-rite-i--1
 4/2026-04-29
END:VEVENT
END:VCALENDAR
