BEGIN:VCALENDAR
VERSION:2.0
PRODID:icalendar-ruby
CALSCALE:GREGORIAN
METHOD:PUBLISH
BEGIN:VEVENT
DTSTAMP:20260423T050254Z
UID:14-439117@saintmarysavl.org
DTSTART:20260513T113000Z
DTEND:20260513T120000Z
CLASS:PUBLIC
CREATED:20260422T231725
DESCRIPTION:
LAST-MODIFIED:20260422T231725
LOCATION:
SUMMARY:Morning Prayer Rite I
URL;VALUE=URI:https://www.saintmarysavl.org/events/morning-prayer-rite-i--1
 4/2026-05-13
END:VEVENT
END:VCALENDAR
