BEGIN:VCALENDAR
VERSION:2.0
PRODID:icalendar-ruby
CALSCALE:GREGORIAN
METHOD:PUBLISH
BEGIN:VEVENT
DTSTAMP:20260423T092406Z
UID:14-439119@saintmarysavl.org
DTSTART:20260527T113000Z
DTEND:20260527T120000Z
CLASS:PUBLIC
CREATED:20260422T231725
DESCRIPTION:
LAST-MODIFIED:20260422T231725
LOCATION:
SUMMARY:Morning Prayer Rite I
URL;VALUE=URI:https://www.saintmarysavl.org/events/morning-prayer-rite-i--1
 4/2026-05-27
END:VEVENT
END:VCALENDAR
