BEGIN:VCALENDAR
VERSION:2.0
PRODID:icalendar-ruby
CALSCALE:GREGORIAN
METHOD:PUBLISH
BEGIN:VEVENT
DTSTAMP:20260422T232709Z
UID:15-438494@saintmarysavl.org
DTSTART:20260423T113000Z
DTEND:20260423T120000Z
CLASS:PUBLIC
CREATED:20260422T173131
DESCRIPTION:
LAST-MODIFIED:20260422T173131
LOCATION:
SUMMARY:Morning Prayer Rite I
URL;VALUE=URI:https://www.saintmarysavl.org/events/morning-prayer-rite-i--1
 5/2026-04-23
END:VEVENT
END:VCALENDAR
