BEGIN:VCALENDAR
VERSION:2.0
PRODID:icalendar-ruby
CALSCALE:GREGORIAN
METHOD:PUBLISH
BEGIN:VEVENT
DTSTAMP:20260423T012157Z
UID:15-438821@saintmarysavl.org
DTSTART:20260430T113000Z
DTEND:20260430T120000Z
CLASS:PUBLIC
CREATED:20260422T202255
DESCRIPTION:
LAST-MODIFIED:20260422T202255
LOCATION:
SUMMARY:Morning Prayer Rite I
URL;VALUE=URI:https://www.saintmarysavl.org/events/morning-prayer-rite-i--1
 5/2026-04-30
END:VEVENT
END:VCALENDAR
