BEGIN:VCALENDAR
VERSION:2.0
PRODID:icalendar-ruby
CALSCALE:GREGORIAN
METHOD:PUBLISH
BEGIN:VEVENT
DTSTAMP:20260425T115101Z
UID:15-446125@saintmarysavl.org
DTSTART:20260625T113000Z
DTEND:20260625T120000Z
CLASS:PUBLIC
CREATED:20260424T225102
DESCRIPTION:
LAST-MODIFIED:20260424T225102
LOCATION:
SUMMARY:Morning Prayer Rite I
URL;VALUE=URI:https://www.saintmarysavl.org/events/morning-prayer-rite-i--1
 5/2026-06-25
END:VEVENT
END:VCALENDAR
