BEGIN:VCALENDAR
VERSION:2.0
PRODID:icalendar-ruby
CALSCALE:GREGORIAN
METHOD:PUBLISH
BEGIN:VEVENT
DTSTAMP:20260425T152337Z
UID:15-447355@saintmarysavl.org
DTSTART:20260709T113000Z
DTEND:20260709T120000Z
CLASS:PUBLIC
CREATED:20260425T111520
DESCRIPTION:
LAST-MODIFIED:20260425T111520
LOCATION:
SUMMARY:Morning Prayer Rite I
URL;VALUE=URI:https://www.saintmarysavl.org/events/morning-prayer-rite-i--1
 5/2026-07-09
END:VEVENT
END:VCALENDAR
