BEGIN:VCALENDAR
VERSION:2.0
PRODID:icalendar-ruby
CALSCALE:GREGORIAN
METHOD:PUBLISH
BEGIN:VEVENT
DTSTAMP:20260425T200455Z
UID:15-447972@saintmarysavl.org
DTSTART:20260730T113000Z
DTEND:20260730T120000Z
CLASS:PUBLIC
CREATED:20260425T135510
DESCRIPTION:
LAST-MODIFIED:20260425T135510
LOCATION:
SUMMARY:Morning Prayer Rite I
URL;VALUE=URI:https://www.saintmarysavl.org/events/morning-prayer-rite-i--1
 5/2026-07-30
END:VEVENT
END:VCALENDAR
