BEGIN:VCALENDAR
VERSION:2.0
PRODID:icalendar-ruby
CALSCALE:GREGORIAN
METHOD:PUBLISH
BEGIN:VEVENT
DTSTAMP:20260425T231702Z
UID:15-448588@saintmarysavl.org
DTSTART:20260813T113000Z
DTEND:20260813T120000Z
CLASS:PUBLIC
CREATED:20260425T163648
DESCRIPTION:
LAST-MODIFIED:20260425T163648
LOCATION:
SUMMARY:Morning Prayer Rite I
URL;VALUE=URI:https://www.saintmarysavl.org/events/morning-prayer-rite-i--1
 5/2026-08-13
END:VEVENT
END:VCALENDAR
