BEGIN:VCALENDAR
VERSION:2.0
PRODID:icalendar-ruby
CALSCALE:GREGORIAN
METHOD:PUBLISH
BEGIN:VEVENT
DTSTAMP:20260426T010628Z
UID:15-449203@saintmarysavl.org
DTSTART:20260820T113000Z
DTEND:20260820T120000Z
CLASS:PUBLIC
CREATED:20260425T191954
DESCRIPTION:
LAST-MODIFIED:20260425T191954
LOCATION:
SUMMARY:Morning Prayer Rite I
URL;VALUE=URI:https://www.saintmarysavl.org/events/morning-prayer-rite-i--1
 5/2026-08-20
END:VEVENT
END:VCALENDAR
