BEGIN:VCALENDAR
VERSION:2.0
PRODID:icalendar-ruby
CALSCALE:GREGORIAN
METHOD:PUBLISH
BEGIN:VEVENT
DTSTAMP:20260426T043548Z
UID:15-449819@saintmarysavl.org
DTSTART:20260903T113000Z
DTEND:20260903T120000Z
CLASS:PUBLIC
CREATED:20260425T220103
DESCRIPTION:
LAST-MODIFIED:20260425T220103
LOCATION:
SUMMARY:Morning Prayer Rite I
URL;VALUE=URI:https://www.saintmarysavl.org/events/morning-prayer-rite-i--1
 5/2026-09-03
END:VEVENT
END:VCALENDAR
