BEGIN:VCALENDAR
VERSION:2.0
PRODID:icalendar-ruby
CALSCALE:GREGORIAN
METHOD:PUBLISH
BEGIN:VEVENT
DTSTAMP:20260422T231843Z
UID:16-438525@saintmarysavl.org
DTSTART:20260424T113000Z
DTEND:20260424T120000Z
CLASS:PUBLIC
CREATED:20260422T173132
DESCRIPTION:
LAST-MODIFIED:20260422T173132
LOCATION:
SUMMARY:Morning Prayer Rite I
URL;VALUE=URI:https://www.saintmarysavl.org/events/morning-prayer-rite-i--1
 6/2026-04-24
END:VEVENT
END:VCALENDAR
