BEGIN:VCALENDAR
VERSION:2.0
PRODID:icalendar-ruby
CALSCALE:GREGORIAN
METHOD:PUBLISH
BEGIN:VEVENT
DTSTAMP:20260425T122519Z
UID:16-446157@saintmarysavl.org
DTSTART:20260626T113000Z
DTEND:20260626T120000Z
CLASS:PUBLIC
CREATED:20260424T225102
DESCRIPTION:
LAST-MODIFIED:20260424T225102
LOCATION:
SUMMARY:Morning Prayer Rite I
URL;VALUE=URI:https://www.saintmarysavl.org/events/morning-prayer-rite-i--1
 6/2026-06-26
END:VEVENT
END:VCALENDAR
