BEGIN:VCALENDAR
VERSION:2.0
PRODID:icalendar-ruby
CALSCALE:GREGORIAN
METHOD:PUBLISH
BEGIN:VEVENT
DTSTAMP:20260425T141245Z
UID:16-446772@saintmarysavl.org
DTSTART:20260703T113000Z
DTEND:20260703T120000Z
CLASS:PUBLIC
CREATED:20260425T083427
DESCRIPTION:
LAST-MODIFIED:20260425T083427
LOCATION:
SUMMARY:Morning Prayer Rite I
URL;VALUE=URI:https://www.saintmarysavl.org/events/morning-prayer-rite-i--1
 6/2026-07-03
END:VEVENT
END:VCALENDAR
