BEGIN:VCALENDAR
VERSION:2.0
PRODID:icalendar-ruby
CALSCALE:GREGORIAN
METHOD:PUBLISH
BEGIN:VEVENT
DTSTAMP:20260425T202446Z
UID:16-448004@saintmarysavl.org
DTSTART:20260731T113000Z
DTEND:20260731T120000Z
CLASS:PUBLIC
CREATED:20260425T135511
DESCRIPTION:
LAST-MODIFIED:20260425T135511
LOCATION:
SUMMARY:Morning Prayer Rite I
URL;VALUE=URI:https://www.saintmarysavl.org/events/morning-prayer-rite-i--1
 6/2026-07-31
END:VEVENT
END:VCALENDAR
