BEGIN:VCALENDAR
VERSION:2.0
PRODID:icalendar-ruby
CALSCALE:GREGORIAN
METHOD:PUBLISH
BEGIN:VEVENT
DTSTAMP:20260426T000200Z
UID:16-449234@saintmarysavl.org
DTSTART:20260814T113000Z
DTEND:20260814T120000Z
CLASS:PUBLIC
CREATED:20260425T191954
DESCRIPTION:
LAST-MODIFIED:20260425T191954
LOCATION:
SUMMARY:Morning Prayer Rite I
URL;VALUE=URI:https://www.saintmarysavl.org/events/morning-prayer-rite-i--1
 6/2026-08-14
END:VEVENT
END:VCALENDAR
