BEGIN:VCALENDAR
VERSION:2.0
PRODID:icalendar-ruby
CALSCALE:GREGORIAN
METHOD:PUBLISH
BEGIN:VEVENT
DTSTAMP:20260426T020228Z
UID:16-449849@saintmarysavl.org
DTSTART:20260821T113000Z
DTEND:20260821T120000Z
CLASS:PUBLIC
CREATED:20260425T220103
DESCRIPTION:
LAST-MODIFIED:20260425T220103
LOCATION:
SUMMARY:Morning Prayer Rite I
URL;VALUE=URI:https://www.saintmarysavl.org/events/morning-prayer-rite-i--1
 6/2026-08-21
END:VEVENT
END:VCALENDAR
