BEGIN:VCALENDAR
VERSION:2.0
PRODID:icalendar-ruby
CALSCALE:GREGORIAN
METHOD:PUBLISH
BEGIN:VEVENT
DTSTAMP:20260421T125759Z
UID:9-435684@saintmarysavl.org
DTSTART:20260427T113000Z
DTEND:20260427T123000Z
CLASS:PUBLIC
CREATED:20260421T082914
DESCRIPTION:
LAST-MODIFIED:20260421T082914
LOCATION:St. Mary's Episcopal Church
SUMMARY:Morning Prayer
URL;VALUE=URI:https://www.saintmarysavl.org/events/morning-prayer/2026-04-2
 7
END:VEVENT
END:VCALENDAR
