BEGIN:VCALENDAR
VERSION:2.0
PRODID:icalendar-ruby
CALSCALE:GREGORIAN
METHOD:PUBLISH
BEGIN:VEVENT
DTSTAMP:20260421T145454Z
UID:9-435685@saintmarysavl.org
DTSTART:20260504T113000Z
DTEND:20260504T123000Z
CLASS:PUBLIC
CREATED:20260421T082914
DESCRIPTION:
LAST-MODIFIED:20260421T082914
LOCATION:St. Mary's Episcopal Church
SUMMARY:Morning Prayer
URL;VALUE=URI:https://www.saintmarysavl.org/events/morning-prayer/2026-05-0
 4
END:VEVENT
END:VCALENDAR
