BEGIN:VCALENDAR
VERSION:2.0
PRODID:icalendar-ruby
CALSCALE:GREGORIAN
METHOD:PUBLISH
BEGIN:VEVENT
DTSTAMP:20260421T164945Z
UID:9-435934@saintmarysavl.org
DTSTART:20260511T113000Z
DTEND:20260511T123000Z
CLASS:PUBLIC
CREATED:20260421T110446
DESCRIPTION:
LAST-MODIFIED:20260421T110446
LOCATION:St. Mary's Episcopal Church
SUMMARY:Morning Prayer
URL;VALUE=URI:https://www.saintmarysavl.org/events/morning-prayer/2026-05-1
 1
END:VEVENT
END:VCALENDAR
