BEGIN:VCALENDAR
VERSION:2.0
PRODID:icalendar-ruby
CALSCALE:GREGORIAN
METHOD:PUBLISH
BEGIN:VEVENT
DTSTAMP:20260421T184425Z
UID:9-436183@saintmarysavl.org
DTSTART:20260518T113000Z
DTEND:20260518T123000Z
CLASS:PUBLIC
CREATED:20260421T134459
DESCRIPTION:
LAST-MODIFIED:20260421T134459
LOCATION:St. Mary's Episcopal Church
SUMMARY:Morning Prayer
URL;VALUE=URI:https://www.saintmarysavl.org/events/morning-prayer/2026-05-1
 8
END:VEVENT
END:VCALENDAR
