BEGIN:VCALENDAR
VERSION:2.0
PRODID:icalendar-ruby
CALSCALE:GREGORIAN
METHOD:PUBLISH
BEGIN:VEVENT
DTSTAMP:20260421T203151Z
UID:9-436432@saintmarysavl.org
DTSTART:20260525T113000Z
DTEND:20260525T123000Z
CLASS:PUBLIC
CREATED:20260421T162041
DESCRIPTION:
LAST-MODIFIED:20260421T162041
LOCATION:St. Mary's Episcopal Church
SUMMARY:Morning Prayer
URL;VALUE=URI:https://www.saintmarysavl.org/events/morning-prayer/2026-05-2
 5
END:VEVENT
END:VCALENDAR
