BEGIN:VCALENDAR
VERSION:2.0
PRODID:icalendar-ruby
CALSCALE:GREGORIAN
METHOD:PUBLISH
BEGIN:VEVENT
DTSTAMP:20260421T221006Z
UID:9-436433@saintmarysavl.org
DTSTART:20260601T113000Z
DTEND:20260601T123000Z
CLASS:PUBLIC
CREATED:20260421T162041
DESCRIPTION:
LAST-MODIFIED:20260421T162041
LOCATION:St. Mary's Episcopal Church
SUMMARY:Morning Prayer
URL;VALUE=URI:https://www.saintmarysavl.org/events/morning-prayer/2026-06-0
 1
END:VEVENT
END:VCALENDAR
